BEGIN:VCALENDAR
VERSION:2.0
PRODID:-//St. Michael&#039;s School - ECPv6.15.20//NONSGML v1.0//EN
CALSCALE:GREGORIAN
METHOD:PUBLISH
X-WR-CALNAME:St. Michael&#039;s School
X-ORIGINAL-URL:https://smstucson.org
X-WR-CALDESC:Events for St. Michael&#039;s School
REFRESH-INTERVAL;VALUE=DURATION:PT1H
X-Robots-Tag:noindex
X-PUBLISHED-TTL:PT1H
BEGIN:VTIMEZONE
TZID:UTC
BEGIN:STANDARD
TZOFFSETFROM:+0000
TZOFFSETTO:+0000
TZNAME:UTC
DTSTART:20240101T000000
END:STANDARD
END:VTIMEZONE
BEGIN:VEVENT
DTSTART;TZID=UTC:20250507T080000
DTEND;TZID=UTC:20250507T090000
DTSTAMP:20260421T112417
CREATED:20250331T180038Z
LAST-MODIFIED:20250331T180038Z
UID:10000043-1746604800-1746608400@smstucson.org
SUMMARY:National Junior Honor Society Ceremony
DESCRIPTION:
URL:https://smstucson.org/event/national-junior-honor-society-ceremony/
CATEGORIES:Events
END:VEVENT
BEGIN:VEVENT
DTSTART;TZID=UTC:20250508T170000
DTEND;TZID=UTC:20250508T170000
DTSTAMP:20260421T112417
CREATED:20250331T180241Z
LAST-MODIFIED:20250331T180259Z
UID:10000045-1746723600-1746723600@smstucson.org
SUMMARY:Kindergarten Round-Up in Foundations Courtyard
DESCRIPTION:
URL:https://smstucson.org/event/indergarten-round-up-in-foundations-courtyard/
CATEGORIES:Events
END:VEVENT
BEGIN:VEVENT
DTSTART;TZID=UTC:20250508T180000
DTEND;TZID=UTC:20250508T190000
DTSTAMP:20260421T112417
CREATED:20250331T180152Z
LAST-MODIFIED:20250331T180338Z
UID:10000044-1746727200-1746730800@smstucson.org
SUMMARY:Fine Arts Band Performance
DESCRIPTION:
URL:https://smstucson.org/event/fine-arts-band-performance/
CATEGORIES:Events
END:VEVENT
BEGIN:VEVENT
DTSTART;TZID=UTC:20250509T140000
DTEND;TZID=UTC:20250509T150000
DTSTAMP:20260421T112417
CREATED:20250331T180442Z
LAST-MODIFIED:20250331T180442Z
UID:10000046-1746799200-1746802800@smstucson.org
SUMMARY:Lower School Fine Arts Choir Performance
DESCRIPTION:
URL:https://smstucson.org/event/lower-school-fine-arts-choir-performance/
CATEGORIES:Events
END:VEVENT
BEGIN:VEVENT
DTSTART;TZID=UTC:20250509T180000
DTEND;TZID=UTC:20250509T190000
DTSTAMP:20260421T112417
CREATED:20250331T180532Z
LAST-MODIFIED:20250331T180532Z
UID:10000047-1746813600-1746817200@smstucson.org
SUMMARY:Upper School Fine Arts Choir Performance
DESCRIPTION:
URL:https://smstucson.org/event/upper-school-fine-arts-choir-performance/
CATEGORIES:Events
END:VEVENT
BEGIN:VEVENT
DTSTART;TZID=UTC:20250514T080000
DTEND;TZID=UTC:20250514T120000
DTSTAMP:20260421T112417
CREATED:20250331T181023Z
LAST-MODIFIED:20250331T181023Z
UID:10000051-1747209600-1747224000@smstucson.org
SUMMARY:Half Day
DESCRIPTION:
URL:https://smstucson.org/event/half-day/
CATEGORIES:Events
END:VEVENT
BEGIN:VEVENT
DTSTART;TZID=UTC:20250521T103000
DTEND;TZID=UTC:20250521T113000
DTSTAMP:20260421T112417
CREATED:20250331T180734Z
LAST-MODIFIED:20250331T180734Z
UID:10000049-1747823400-1747827000@smstucson.org
SUMMARY:Baccalaureate Mass in Church
DESCRIPTION:
URL:https://smstucson.org/event/baccalaureate-mass-in-church/
CATEGORIES:Events
END:VEVENT
BEGIN:VEVENT
DTSTART;TZID=UTC:20250522T080000
DTEND;TZID=UTC:20250522T170000
DTSTAMP:20260421T112417
CREATED:20250331T180644Z
LAST-MODIFIED:20250331T180644Z
UID:10000048-1747900800-1747933200@smstucson.org
SUMMARY:Last Day of School
DESCRIPTION:
URL:https://smstucson.org/event/last-day-of-school/
CATEGORIES:Events
END:VEVENT
BEGIN:VEVENT
DTSTART;TZID=UTC:20250523T170000
DTEND;TZID=UTC:20250523T180000
DTSTAMP:20260421T112417
CREATED:20250331T180929Z
LAST-MODIFIED:20250331T180929Z
UID:10000050-1748019600-1748023200@smstucson.org
SUMMARY:8th Grade Commencement
DESCRIPTION:
URL:https://smstucson.org/event/8th-grade-commencement/
CATEGORIES:Events
END:VEVENT
END:VCALENDAR